Workbook

Sheet Macro-commandes
A1: =#REF! -> #REF! | C1: Administration communale de:
A3: Gestion informatique du document. | B3: Commandes :
A5: Cliquez sur la commande>>>
C7: Enregistré

Sheet Coordonnées
A1: Synthèse des Comptes | D1: Administration communale de | J1: VILLE DE NAMUR | P1: Code INS | R1: 92094
P2: Exercice: | R2: =N27 -> 2020
A3: Modèle officiel généré par l'application eComptes © SPW Intérieur et Action Sociale | P3: Version: | R3: 1
E7: S Y N T H È S E des C O M P T E S
E11: Module informatisé de publication des comptes annuels
A17: Commune de : | H17: VILLE DE NAMUR
A19: Adresse de l'administration: | H19: Hôtel de Ville
H20: 5000 NAMUR
H21: www.ville.namur.be
A23: Date d'arrêt du compte par le conseil: | H23: 18/05/2021
A25: Date d'approbation de la Tutelle:
A27: Type document: | H27: Compte | L27: Exercice: | N27: 2020
A29: Directeur Général: | H29: Laurence LEPRINCE
A30: Tél: | H30: 081-246.411
A31: Fax:
A32: Email: | H32: dg@ville.namur.be
A34: Directeur Financier: | H34: Marc BRUYR
A35: Tél: | H35: 081-246.270
A36: Fax:
A37: Email: | H37: marc.bruyr@ville.namur.be

Sheet Résultats
A1: =Coordonnées!A1 -> Synthèse des Comptes | D1: =Coordonnées!D1 -> Administration communale de | J1: =Coordonnées!J1 -> VILLE DE NAMUR | P1: =Coordonnées!P1 -> Code INS | R1: =Coordonnées!R1 -> 92094
P2: =Coordonnées!P2 -> Exercice: | R2: =Coordonnées!R2 -> 2020
A3: =Coordonnées!A3 -> Modèle officiel généré par l'application eComptes © SPW Intérieur et Action Sociale | P3: =Coordonnées!P3 -> Version: | R3: =Coordonnées!R3 -> 1
H6: Evolution du résultat budgétaire ordinaire
H7: =Coordonnées!$H$27 -> Compte | K7: =Coordonnées!$H$27 -> Compte | N7: =Coordonnées!$H$27 -> Compte | Q7: =Coordonnées!$H$27 -> Compte | T7: =Coordonnées!$H$27 -> Compte
A8: Exercices: | H8: =K8-1 -> 2016 | K8: =N8-1 -> 2017 | N8: =Q8-1 -> 2018 | Q8: =T8-1 -> 2019 | T8: =R2 -> 2020
A9: Résultats Exercice Propre* | H9: ='Ordinaire GE'!H26-'Ordinaire GE'!H15 -> 2645445.5 | K9: ='Ordinaire GE'!K26-'Ordinaire GE'!K15 -> 534121.9 | N9: ='Ordinaire GE'!N26-'Ordinaire GE'!N15 -> 580069.38 | Q9: ='Ordinaire GE'!Q26-'Ordinaire GE'!Q15 -> 0 | T9: ='Ordinaire GE'!T26-'Ordinaire GE'!T15 -> -1032348.9
A10: Résultat global* (avec exercices antérieurs et prélèvements) | H10: ='Ordinaire GE'!H29-'Ordinaire GE'!H18 -> 0 | K10: ='Ordinaire GE'!K29-'Ordinaire GE'!K18 -> 0 | N10: ='Ordinaire GE'!N29-'Ordinaire GE'!N18 -> 0 | Q10: ='Ordinaire GE'!Q29-'Ordinaire GE'!Q18 -> 2362588.7 | T10: ='Ordinaire GE'!T29-'Ordinaire GE'!T18 -> 6064551.9
A11: * Montant arrondi à l'euro

Sheet Ordinaire GE
A1: =Coordonnées!A1 -> Synthèse des Comptes | D1: =Coordonnées!D1 -> Administration communale de | J1: =Coordonnées!J1 -> VILLE DE NAMUR | P1: =Coordonnées!P1 -> Code INS | R1: =Coordonnées!R1 -> 92094
P2: =Coordonnées!P2 -> Exercice: | R2: =Coordonnées!R2 -> 2020
A3: =Coordonnées!A3 -> Modèle officiel généré par l'application eComptes © SPW Intérieur et Action Sociale | P3: =Coordonnées!P3 -> Version: | R3: =Coordonnées!R3 -> 1
H6: Ventilation économique des dépenses et des recettes ordinaires
H7: =Coordonnées!$H$27 -> Compte | K7: =Coordonnées!$H$27 -> Compte | N7: =Coordonnées!$H$27 -> Compte | Q7: =Coordonnées!$H$27 -> Compte | T7: =Coordonnées!$H$27 -> Compte
H8: Dépenses ordinaires (engagements actés aux comptes)
A9: Exercices: | H9: =K9-1 -> 2016 | K9: =N9-1 -> 2017 | N9: =Q9-1 -> 2018 | Q9: =T9-1 -> 2019 | T9: =R2 -> 2020
A10: Personnel | H10: 70557456 | I10: 5512664.3 | J10: 5512664.3 | K10: 72740750 | L10: 5512664.3 | M10: 5512664.3 | N10: 74942392 | O10: 5512664.3 | P10: 5512664.3 | Q10: 77479228 | R10: 5512664.3 | S10: 5512664.3 | T10: 79789063 | U10: 5512664.3 | V10: 5512664.3
A11: Fonctionnement | H11: 25232003 | I11: 2726342.7 | J11: 2726342.7 | K11: 26329320 | L11: 2726342.7 | M11: 2726342.7 | N11: 28040413 | O11: 2726342.7 | P11: 2726342.7 | Q11: 28573303 | R11: 2726342.7 | S11: 2726342.7 | T11: 29091977 | U11: 2726342.7 | V11: 2726342.7
A12: Transferts | H12: 53504747 | I12: 4264832 | J12: 4264832 | K12: 54895463 | L12: 4264832 | M12: 4264832 | N12: 56070784 | O12: 4264832 | P12: 4264832 | Q12: 60900547 | R12: 4264832 | S12: 4264832 | T12: 61281584 | U12: 4264832 | V12: 4264832
A13: Dette | H13: 17216683 | I13: 41563.69 | J13: 41563.69 | K13: 17406889 | L13: 41563.69 | M13: 41563.69 | N13: 17800816 | O13: 41563.69 | P13: 41563.69 | Q13: 18644785 | R13: 41563.69 | S13: 41563.69 | T13: 19672738 | U13: 41563.69 | V13: 41563.69
A14: Prélèvements (hors 060) | H14: 7286703.9 | I14: 0 | J14: 0 | K14: 2336739.2 | L14: 0 | M14: 0 | N14: 850000 | O14: 0 | P14: 0 | Q14: 237519.54 | R14: 0 | S14: 0 | T14: 0 | U14: 0 | V14: 0
A15: Total (exercice propre)* | H15: =SUM(H10:H14) -> 1.7379759e+08 | K15: =SUM(K10:K14) -> 1.7370916e+08 | N15: =SUM(N10:N14) -> 1.7770441e+08 | Q15: =SUM(Q10:Q14) -> 1.8583538e+08 | T15: =SUM(T10:T14) -> 1.8983536e+08
A16: Exercices antérieurs | H16: 8133908.5 | I16: 1521059 | J16: 2351270.7 | K16: 6545181.7 | L16: 1659060.8 | M16: 1521059 | N16: 7605204 | O16: 2230351.9 | P16: 1659060.8 | Q16: 5926786.6 | R16: 2351270.7 | S16: 2230351.9 | T16: 10976760 | U16: 2351270.7 | V16: 2230351.9
A17: Prélèvements | H17: 1256615.5 | I17: 1192323.5 | J17: 824300.6 | K17: 1396022.2 | L17: 4295659.9 | M17: 1192323.5 | N17: 745691.24 | O17: 1045347.1 | P17: 4295659.9 | Q17: 1136100.8 | R17: 824300.6 | S17: 1045347.1 | T17: 155853.88 | U17: 824300.6 | V17: 1045347.1
A18: Total général* | H18: =SUM(H15:H17) -> 1.8318812e+08 | K18: =SUM(K15:K17) -> 1.8165036e+08 | N18: =SUM(N15:N17) -> 1.860553e+08 | Q18: =SUM(Q15:Q17) -> 1.9289827e+08 | T18: =SUM(T15:T17) -> 2.0096797e+08
A19: * Montant arrondi à l'euro
H20: Recettes ordinaires (Droits actés aux comptes)
A21: Exercices: | H21: =K21-1 -> 2016 | K21: =N21-1 -> 2017 | N21: =Q21-1 -> 2018 | Q21: =T21-1 -> 2019 | T21: =R2 -> 2020
A22: Prestation | H22: 6809534.2 | I22: 373432.17 | J22: 697745.74 | K22: 6435708.2 | L22: 373432.17 | M22: 697745.74 | N22: 6462191.4 | O22: 373432.17 | P22: 697745.74 | Q22: 6651665.7 | R22: 373432.17 | S22: 697745.74 | T22: 5680965.7 | U22: 373432.17 | V22: 697745.74
A23: Transferts | H23: 1.6402952e+08 | I23: 12728583 | J23: 13240575 | K23: 1.6241922e+08 | L23: 12728583 | M23: 13240575 | N23: 1.6652388e+08 | O23: 12728583 | P23: 13240575 | Q23: 1.7420897e+08 | R23: 12728583 | S23: 13240575 | T23: 1.7356071e+08 | U23: 12728583 | V23: 13240575
A24: Dette | H24: 5143983.8 | I24: 548784.99 | J24: 408005.67 | K24: 4928353.6 | L24: 548784.99 | M24: 408005.67 | N24: 4838401.6 | O24: 548784.99 | P24: 408005.67 | Q24: 4839170.9 | R24: 548784.99 | S24: 408005.67 | T24: 5699805.3 | U24: 548784.99 | V24: 408005.67
A25: Prélèvements | H25: 460000 | I25: 0 | J25: 0 | K25: 460000 | L25: 0 | M25: 0 | N25: 460000 | O25: 0 | P25: 0 | Q25: 135572.38 | R25: 0 | S25: 0 | T25: 3861532.1 | U25: 0 | V25: 0
A26: Total (exercice propre)* | H26: =SUM(H22:H25) -> 1.7644304e+08 | K26: =SUM(K22:K25) -> 1.7424328e+08 | N26: =SUM(N22:N25) -> 1.7828447e+08 | Q26: =SUM(Q22:Q25) -> 1.8583538e+08 | T26: =SUM(T22:T25) -> 1.8880301e+08
A27: Exercices antérieurs | H27: 2539980.9 | I27: 6001218.3 | J27: 5811470.1 | K27: 7264177.7 | L27: 6001218.3 | M27: 5811470.1 | N27: 7770825.8 | O27: 6001218.3 | P27: 5811470.1 | Q27: 9425476 | R27: 6001218.3 | S27: 5811470.1 | T27: 18229515 | U27: 6001218.3 | V27: 5811470.1
A28: Prélèvements | H28: 4205097.6 | I28: 0 | J28: 0 | K28: 142904.29 | L28: 0 | M28: 0 | N28: 0 | O28: 0 | P28: 0 | Q28: 0 | R28: 0 | S28: 0 | T28: 0 | U28: 0 | V28: 0
A29: Total général* | H29: =SUM(H26:H28) -> 1.8318812e+08 | K29: =SUM(K26:K28) -> 1.8165036e+08 | N29: =SUM(N26:N28) -> 1.860553e+08 | Q29: =SUM(Q26:Q28) -> 1.9526086e+08 | T29: =SUM(T26:T28) -> 2.0703253e+08
A30: * Montant arrondi à l'euro

Sheet Extraordinaire GE
A1: =Coordonnées!A1 -> Synthèse des Comptes | D1: =Coordonnées!D1 -> Administration communale de | J1: =Coordonnées!J1 -> VILLE DE NAMUR | P1: =Coordonnées!P1 -> Code INS | R1: =Coordonnées!R1 -> 92094
P2: =Coordonnées!P2 -> Exercice: | R2: =Coordonnées!R2 -> 2020
A3: =Coordonnées!A3 -> Modèle officiel généré par l'application eComptes © SPW Intérieur et Action Sociale | P3: =Coordonnées!P3 -> Version: | R3: =Coordonnées!R3 -> 1
H6: Ventilation économique des dépenses et des recettes extraordinaires
H7: =Coordonnées!$H$27 -> Compte | K7: =Coordonnées!$H$27 -> Compte | N7: =Coordonnées!$H$27 -> Compte | Q7: =Coordonnées!$H$27 -> Compte | T7: =Coordonnées!$H$27 -> Compte
H8: Dépenses extraordinaires (engagements actés aux comptes)
A9: Exercices: | H9: =K9-1 -> 2016 | K9: =N9-1 -> 2017 | N9: =Q9-1 -> 2018 | Q9: =T9-1 -> 2019 | T9: =R2 -> 2020
A10: Transferts | H10: 834550.03 | I10: 5512664.3 | J10: 5512664.3 | K10: 1092330.9 | L10: 5512664.3 | M10: 5512664.3 | N10: 1082728.8 | O10: 5512664.3 | P10: 5512664.3 | Q10: 817102.82 | R10: 5512664.3 | S10: 5512664.3 | T10: 731940.78 | U10: 5512664.3 | V10: 5512664.3
A11: Investissements | H11: 54130578 | I11: 2726342.7 | J11: 2726342.7 | K11: 15588519 | L11: 2726342.7 | M11: 2726342.7 | N11: 30305457 | O11: 2726342.7 | P11: 2726342.7 | Q11: 30627496 | R11: 2726342.7 | S11: 2726342.7 | T11: 19427061 | U11: 2726342.7 | V11: 2726342.7
A12: Dette | H12: 126811.59 | I12: 4264832 | J12: 4264832 | K12: 8997632.6 | L12: 4264832 | M12: 4264832 | N12: 142955.2 | O12: 4264832 | P12: 4264832 | Q12: 20150455 | R12: 4264832 | S12: 4264832 | T12: 8330884.2 | U12: 4264832 | V12: 4264832
A13: Prélèvements | H13: 0 | I13: 41563.69 | J13: 41563.69 | K13: 0 | L13: 41563.69 | M13: 41563.69 | N13: 0 | O13: 41563.69 | P13: 41563.69 | Q13: 0 | R13: 41563.69 | S13: 41563.69 | T13: 0 | U13: 41563.69 | V13: 41563.69
H14: 0 | I14: 0 | J14: 0 | K14: 0 | L14: 0 | M14: 0 | N14: 0 | O14: 0 | P14: 0 | Q14: 0 | R14: 0 | S14: 0 | T14: 3861532.1 | U14: 0 | V14: 0
A15: Total (exercice propre)* | H15: =SUM(H10:H14) -> 55091939 | K15: =SUM(K10:K14) -> 25678483 | N15: =SUM(N10:N14) -> 31531141 | Q15: =SUM(Q10:Q14) -> 51595054 | T15: =SUM(T10:T14) -> 32351418
A16: Exercices antérieurs | H16: 41472556 | I16: 1521059 | J16: 2351270.7 | K16: 79717107 | L16: 1659060.8 | M16: 1521059 | N16: 75569621 | O16: 2230351.9 | P16: 1659060.8 | Q16: 87345035 | R16: 2351270.7 | S16: 2230351.9 | T16: 73261832 | U16: 2351270.7 | V16: 2230351.9
A17: Prélèvements | H17: 19312211 | I17: 1192323.5 | J17: 824300.6 | K17: 9321405 | L17: 4295659.9 | M17: 1192323.5 | N17: 33571067 | O17: 1045347.1 | P17: 4295659.9 | Q17: 21885602 | R17: 824300.6 | S17: 1045347.1 | T17: 21059962 | U17: 824300.6 | V17: 1045347.1
A18: Total général* | H18: =SUM(H15:H17) -> 1.1587671e+08 | K18: =SUM(K15:K17) -> 1.1471699e+08 | N18: =SUM(N15:N17) -> 1.4067183e+08 | Q18: =SUM(Q15:Q17) -> 1.6082569e+08 | T18: =SUM(T15:T17) -> 1.2667321e+08
A19: * Montant arrondi à l'euro
H20: Recettes extraordinaires (Droits actés aux comptes)
A21: Exercices: | H21: =K21-1 -> 2016 | K21: =N21-1 -> 2017 | N21: =Q21-1 -> 2018 | Q21: =T21-1 -> 2019 | T21: =R2 -> 2020
A22: Transferts | H22: 18135733 | I22: 373432.17 | J22: 697745.74 | K22: 1996596 | L22: 365967.42 | M22: 373432.17 | N22: 6369537.9 | O22: 414709.37 | P22: 365967.42 | Q22: 7061756.6 | R22: 697745.74 | S22: 414709.37 | T22: 1115683 | U22: 557211.56 | V22: 577850.16
A23: Investissements | H23: 4575923.8 | I23: 12728583 | J23: 13240575 | K23: 90097 | L23: 12120372 | M23: 12728583 | N23: 67933 | O23: 12941518 | P23: 12120372 | Q23: 313409.23 | R23: 13240575 | S23: 12941518 | T23: 673734.71 | U23: 13289627 | V23: 13396094
A24: Dette | H24: 15000000 | I24: 548784.99 | J24: 408005.67 | K24: 6358400 | L24: 536819.05 | M24: 548784.99 | N24: 15461925 | O24: 344975.81 | P24: 536819.05 | Q24: 12500000 | R24: 408005.67 | S24: 344975.81 | T24: 17020000 | U24: 128208.39 | V24: 26303.797
A25: Prélèvements | H25: 0 | I25: 0 | J25: 0 | K25: 0 | L25: 0 | M25: 0 | N25: 0 | O25: 0 | P25: 0 | Q25: 0 | R25: 0 | S25: 0 | T25: 0 | U25: 0 | V25: 0
A26: Total (exercice propre)* | H26: =SUM(H22:H25) -> 37711657 | K26: =SUM(K22:K25) -> 8445093 | N26: =SUM(N22:N25) -> 21899396 | Q26: =SUM(Q22:Q25) -> 19875166 | T26: =SUM(T22:T25) -> 18809418
A27: Exercices antérieurs | H27: 13339684 | K27: 25745406 | L27: 10122962 | M27: 6628334.6 | N27: 20468892 | O27: 6248838.2 | P27: 10122962 | Q27: 51718351 | R27: 6834216 | S27: 6248838.2 | T27: 28896030 | U27: 6001218.3 | V27: 5811470.1
A28: Prélèvements | H28: 5034687 | I28: 0 | J28: 0 | K28: 12088289 | L28: 0 | M28: 0 | N28: 21209926 | O28: 0 | P28: 0 | Q28: 23740600 | R28: 0 | S28: 0 | T28: 15212240 | U28: 0 | V28: 0
A29: Total général* | H29: =SUM(H26:H28) -> 56086027 | K29: =SUM(K26:K28) -> 46278789 | N29: =SUM(N26:N28) -> 63578214 | Q29: =SUM(Q26:Q28) -> 95334117 | T29: =SUM(T26:T28) -> 62917688
A30: * Montant arrondi à l'euro

Sheet DO fonctions
A1: =Coordonnées!A1 -> Synthèse des Comptes | E1: Administration communale de: | G1: =Coordonnées!J1 -> VILLE DE NAMUR | I1: Code INS: | J1: =Coordonnées!R1 -> 92094
I2: Exercice: | J2: =Coordonnées!R2 -> 2020
A3: =Coordonnées!A3 -> Modèle officiel généré par l'application eComptes © SPW Intérieur et Action Sociale | I3: version: | J3: =Coordonnées!R3 -> 1
E4: Ventilation fonctionnelle
E5: Evolution des dépenses ordinaires (exercice propre)
E6: =Coordonnées!$H$27 -> Compte | F6: =Coordonnées!$H$27 -> Compte | G6: =Coordonnées!$H$27 -> Compte | H6: =Coordonnées!$H$27 -> Compte | I6: =Coordonnées!$H$27 -> Compte
E7: =F7-1 -> 2016 | F7: =G7-1 -> 2017 | G7: =H7-1 -> 2018 | H7: =I7-1 -> 2019 | I7: =J2 -> 2020
A8: 0 Recettes et dépenses générales | E8: 16302630 | F8: 8044133.6 | G8: 6615682.3 | H8: 7228566.8 | I8: 6273345.6
A9: 1 Administration générale | E9: 54877486 | F9: 57062860 | G9: 59104544 | H9: 62361641 | I9: 64088538
A10: 3 Sécurité | E10: 29545002 | F10: 30911928 | G10: 30655575 | H10: 33432677 | I10: 32398260
A11: 4 Voiries-communications | E11: 13824851 | F11: 13950662 | G11: 14232405 | H11: 13826965 | I11: 14134978
A12: 5 Industrie - commerce | E12: 2729310.6 | F12: 3283543 | G12: 3253190.9 | H12: 2876955.5 | I12: 3009771.3
A13: 6 Sylviculture- Agriculture | E13: 1014.56 | F13: 1033.04 | G13: 1047.28 | H13: 393.29 | I13: 424.4
A14: 70>75 Enseignement | E14: 5864935.5 | F14: 6033431.1 | G14: 6316927.5 | H14: 6679874.5 | I14: 7407202
A15: 76>77 Culture et sports | E15: 15423785 | F15: 15553204 | G15: 16199122 | H15: 17041209 | I15: 17315264
A16: 78 Radio, télévision, presse | E16: 185862 | F16: 185862 | G16: 210000 | H16: 210000 | I16: 210000
A17: 79 Culte | E17: 1345443 | F17: 1347818.2 | G17: 1317141.2 | H17: 1327849.2 | I17: 1433800.8
A18: 80>86 Action Sociale | E18: 22346838 | F18: 23747437 | G18: 25115651 | H18: 26025868 | I18: 26971948
A19: 87 Santé publique et hygiène | E19: 12424034 | F19: 12880976 | G19: 13331386 | H19: 13788582 | I19: 14495625
... A21: 93 Aménagement du territoire | E21: 187369.27 | F21: 134668.98 | G21: 132488.5 | H21: 218097.32 | I21: 248342.44

Sheet RO fonctions
A1: =Coordonnées!A1 -> Synthèse des Comptes | E1: Administration communale de: | G1: =Coordonnées!J1 -> VILLE DE NAMUR | I1: Code INS: | J1: =Coordonnées!R1 -> 92094
I2: Exercice: | J2: =Coordonnées!R2 -> 2020
A3: =Coordonnées!A3 -> Modèle officiel généré par l'application eComptes © SPW Intérieur et Action Sociale | I3: version: | J3: =Coordonnées!R3 -> 1
E4: Ventilation fonctionnelle
E5: Evolution des recettes ordinaires (exercice propre)
E6: =Coordonnées!$H$27 -> Compte | F6: =Coordonnées!$H$27 -> Compte | G6: =Coordonnées!$H$27 -> Compte | H6: =Coordonnées!$H$27 -> Compte | I6: =Coordonnées!$H$27 -> Compte
E7: =F7-1 -> 2016 | F7: =G7-1 -> 2017 | G7: =H7-1 -> 2018 | H7: =I7-1 -> 2019 | I7: =J2 -> 2020
A8: 0 Recettes et dépenses générales | E8: 1.5180105e+08 | F8: 1.4906748e+08 | G8: 1.5358933e+08 | H8: 1.6039819e+08 | I8: 1.7045307e+08
A9: 1 Administration générale | E9: 6958091.5 | F9: 7168632 | G9: 7920870.4 | H9: 8806572.1 | I9: 7783176.1
A10: 3 Sécurité | E10: 854326.85 | F10: 1588506.6 | G10: 959024 | H10: 1012634 | I10: 1180583.4
A11: 4 Voiries-communications | E11: 2401107.3 | F11: 2472388.9 | G11: 2438583.6 | H11: 2515937.5 | I11: 2654442.2
A12: 5 Industrie - commerce | E12: 4142253.8 | F12: 4058412.8 | G12: 4127650.5 | H12: 4446374.9 | I12: 4401364.4
A13: 6 Sylviculture- Agriculture | E13: 20943.6 | F13: 51459.22 | G13: 56463.65 | H13: 36939.57 | I13: 21678.21
A14: 70>75 Enseignement | E14: 3209469.1 | F14: 3312488.2 | G14: 3461853.6 | H14: 3952978.6 | I14: 4339108.8
A15: 76>77 Culture et sports | E15: 3843147.6 | F15: 3862909 | G15: 3976392.4 | H15: 3960315.6 | I15: 2979280.8
A16: 78 Radio, télévision, presse | E16: 0 | F16: 0 | G16: 0 | H16: 0 | I16: 0
A17: 79 Culte | E17: 0 | F17: 0 | G17: 0 | H17: 0 | I17: 0
A18: 80>86 Action Sociale | E18: 3506164 | F18: 3709816.1 | G18: 3675886.8 | H18: 3372417.4 | I18: 3633049.4
A19: 87 Santé publique et hygiène | E19: 811343.4 | F19: 1030425.2 | G19: 1004385.4 | H19: 1026790.6 | I19: 1248345.7
... A21: 93 Aménagement du territoire | E21: 330.03 | F21: 6937.14 | G21: 0 | H21: 0 | I21: 0

Sheet DE fonctions
A1: =Coordonnées!A1 -> Synthèse des Comptes | E1: Administration communale de: | G1: =Coordonnées!J1 -> VILLE DE NAMUR | I1: Code INS: | J1: =Coordonnées!R1 -> 92094
I2: Exercice: | J2: =Coordonnées!R2 -> 2020
A3: =Coordonnées!A3 -> Modèle officiel généré par l'application eComptes © SPW Intérieur et Action Sociale | I3: version: | J3: =Coordonnées!R3 -> 1
E4: Ventilation fonctionnelle
E5: Evolution des dépenses extraordinaires (exercice propre)
E6: =Coordonnées!$H$27 -> Compte | F6: =Coordonnées!$H$27 -> Compte | G6: =Coordonnées!$H$27 -> Compte | H6: =Coordonnées!$H$27 -> Compte | I6: =Coordonnées!$H$27 -> Compte
E7: =F7-1 -> 2016 | F7: =G7-1 -> 2017 | G7: =H7-1 -> 2018 | H7: =I7-1 -> 2019 | I7: =J2 -> 2020
A8: 0 Recettes et dépenses générales | E8: 19660071 | F8: 18179805 | G8: 35135170 | H8: 41885602 | I8: 33091494
A9: 1 Administration générale | E9: 9520068.1 | F9: 8236885.3 | G9: 11584819 | H9: 5329242.9 | I9: 6149607.8
A10: 3 Sécurité | E10: 0 | F10: 303390.55 | G10: 0 | H10: 0 | I10: 0
A11: 4 Voiries-communications | E11: 19454274 | F11: 3162152.9 | G11: 12486390 | H11: 2991127.7 | I11: 10434267
A12: 5 Industrie - commerce | E12: 4395878.2 | F12: 35000 | G12: 30000 | H12: 3790288.4 | I12: 43149.26
A13: 6 Sylviculture- Agriculture | E13: 0 | F13: 0 | G13: 0 | H13: 0 | I13: 0
A14: 70>75 Enseignement | E14: 8547622.4 | F14: 541257.5 | G14: 340821.34 | H14: 134091.46 | I14: 819511.12
A15: 76>77 Culture et sports | E15: 10776884 | F15: 2870830.9 | G15: 5727829 | H15: 1890624.8 | I15: 1721811.5
A16: 78 Radio, télévision, presse | E16: 0 | F16: 0 | G16: 0 | H16: 0 | I16: 0
A17: 79 Culte | E17: 1582440.2 | F17: 790339.87 | G17: 781158.28 | H17: 439302.94 | I17: 138865.18
A18: 80>86 Action Sociale | E18: 45000 | F18: 106521.67 | G18: 5990.71 | H18: 40500 | I18: 0
A19: 87 Santé publique et hygiène | E19: 435389.42 | F19: 773704.35 | G19: 474132.13 | H19: 815400.59 | I19: 687673.68
... A21: 93 Aménagement du territoire | E21: 0 | F21: 0 | G21: 0 | H21: 124240.49 | I21: 325000

Sheet RE fonctions
A1: =Coordonnées!A1 -> Synthèse des Comptes | E1: Administration communale de: | G1: =Coordonnées!J1 -> VILLE DE NAMUR | I1: Code INS: | J1: =Coordonnées!R1 -> 92094
I2: Exercice: | J2: =Coordonnées!R2 -> 2020
A3: =Coordonnées!A3 -> Modèle officiel généré par l'application eComptes © SPW Intérieur et Action Sociale | I3: version: | J3: =Coordonnées!R3 -> 1
E4: Ventilation fonctionnelle
E5: Evolution des recettes extraordinaires (exercice propre)
E6: =Coordonnées!$H$27 -> Compte | F6: =Coordonnées!$H$27 -> Compte | G6: =Coordonnées!$H$27 -> Compte | H6: =Coordonnées!$H$27 -> Compte | I6: =Coordonnées!$H$27 -> Compte
E7: =F7-1 -> 2016 | F7: =G7-1 -> 2017 | G7: =H7-1 -> 2018 | H7: =I7-1 -> 2019 | I7: =J2 -> 2020
A8: 0 Recettes et dépenses générales | E8: 22638427 | F8: 36824513 | G8: 36671526 | H8: 48859707 | I8: 52223636
A9: 1 Administration générale | E9: 6347592.8 | F9: 1282587.6 | G9: 2444532 | H9: 751122.66 | I9: 1049002.2
A10: 3 Sécurité | E10: 29243.84 | F10: 303390.55 | G10: 0 | H10: 0 | I10: 0
A11: 4 Voiries-communications | E11: 5577424.9 | F11: 381457.08 | G11: 2700084.4 | H11: 801428.02 | I11: 689996.57
A12: 5 Industrie - commerce | E12: 4189241.4 | F12: 0 | G12: 0 | H12: 0 | I12: 0
A13: 6 Sylviculture- Agriculture | E13: 0 | F13: 0 | G13: 0 | H13: 0 | I13: 0
A14: 70>75 Enseignement | E14: 3468832.9 | F14: 20241.42 | G14: 1110 | H14: 0 | I14: 1510
A15: 76>77 Culture et sports | E15: 479003.93 | F15: 20657 | G15: 1292069.4 | H15: 21291 | I15: 48909
A16: 78 Radio, télévision, presse | E16: 0 | F16: 0 | G16: 0 | H16: 0 | I16: 0
A17: 79 Culte | E17: 13358.4 | F17: 35099.38 | G17: 0 | H17: 14461.92 | I17: 0
A18: 80>86 Action Sociale | E18: 0 | F18: 28260 | G18: 0 | H18: 0 | I18: 0
A19: 87 Santé publique et hygiène | E19: 3218.6 | F19: 15000 | G19: 0 | H19: 12702.31 | I19: 0
... A21: 93 Aménagement du territoire | E21: 0 | F21: 0 | G21: 0 | H21: 0 | I21: 0

Sheet Actif
A1: =Coordonnées!A1 -> Synthèse des Comptes | C1: =Coordonnées!D1 -> Administration communale de | D1: =Coordonnées!J1 -> VILLE DE NAMUR | G1: =Coordonnées!P1 -> Code INS | I1: =Coordonnées!R1 -> 92094
G2: =Coordonnées!P2 -> Exercice: | I2: =Coordonnées!R2 -> 2020
A3: =Coordonnées!A3 -> Modèle officiel généré par l'application eComptes © SPW Intérieur et Action Sociale | G3: =Coordonnées!P3 -> Version: | I3: =Coordonnées!R3 -> 1
A6: B I L A N | E6: Codes | F6: =I2 -> 2020 | H6: =F6-1 -> 2019
C8: A C T I F
A10: ACTIFS IMMOBILISES | E10: 21/28 | F10: =F12+F14+F29+F35+F39 -> 4.2908407e+08 | H10: =H12+H14+H29+H35+H39 -> 4.2102146e+08
A12: I . | B12: Immobilisations incorporelles | E12: 21 | F12: 1603853.8 | H12: 1862213.6
A14: II. | B14: Immobilisations corporelles | E14: 22/26 | F14: =SUM(F16:F27) -> 3.3563076e+08 | H14: =SUM(H16:H27) -> 3.1828691e+08
B15: Patrimoine immobilier
B16: A. | C16: Terres et terrains non bâtis ............................................................................... | E16: 220 | F16: 13656363 | H16: 13811758
B17: B. | C17: Constructions et leurs terrains ........................................................................... | E17: 221 | F17: 1.6264446e+08 | H17: 1.6096764e+08
B18: C. | C18: Voiries ......................................................................................................................... | E18: 223 | F18: 76332303 | H18: 75635845
B19: D. | C19: Ouvrages d'art ............................................................................................................. | E19: 224 | F19: 788353.97 | H19: 618914.9
B20: E. | C20: Cours et plans d'eau ...................................................................... | E20: 226 | F20: 672874.09 | H20: 683445.03
B21: Patrimoine mobilier
B22: F. | C22: Mobilier, matériel, équipements et signalisation routière............................................................. | E22: 230/3 | F22: 14890784 | H22: 15437834
B23: G. | C23: Patrimoine artistique et mobilier divers ................................................................. | E23: 234 | F23: 2074577.6 | H23: 2013542.6
B24: Autres immobilisations corporelles
B25: H. | C25: Immobilisations en cours d'exécution ................................................................... | E25: 24 | F25: 64571044 | H25: 49117927
B26: I. | C26: Droits réels d'emphythéoses et superficies..................................................... .................................. .................... | E26: 261 | F26: 0 | H26: 0
B27: J. | C27: Immobilisations en location-financement .............................................. ............................ | E27: 262/3 | F27: 0 | H27: 0
A29: III. | B29: Subsides d'investissements accordés | E29: 25 | F29: =SUM(F30:F33) -> 12057011 | H29: =SUM(H30:H33) -> 13436642
B30: A. | C30: Aux entreprises privées ..................................................................................... ..................... | E30: 251 | F30: 0 | H30: 0
B31: B. | C31: Aux ménages, ASBL et autres organismes ............................................... ........................ | E31: 252 | F31: 10084675 | H31: 10835001
B32: C. | C32: A l'Autorité supérieure......................................................................................... ..................... | E32: 254 | F32: 0 | H32: 0
B33: D. | C33: Aux autres pouvoirs publics ................................................................ ................................... | E33: 256 | F33: 1972335.8 | H33: 2601640.9
A35: IV. | B35: Promesses de subsides à recevoir, prêts | E35: 27 | F35: =SUM(F36:F37) -> 40535863 | H35: =SUM(H36:H37) -> 48567935
B36: A. | C36: Promesse de subsides à recevoir.................................................. ...................................... | E36: 270/4 | F36: 36583010 | H36: 44323655
B37: B. | C37: Prêts accordés ............................................................................ ............................................. | E37: 275 | F37: 3952853.2 | H37: 4244280.5
A39: V. | B39: Immobilisations financières | E39: 28 | F39: =SUM(F40:F41) -> 39256583 | H39: =SUM(H40:H41) -> 38867758
B40: A. | C40: Participations et titres à revenus fixes ................................................................ | E40: 282/5 | F40: 39256583 | H40: 38867758
B41: B. | C41: Cautionnements versés à plus d'un an ............................................................. | E41: 288 | F41: 0 | H41: 0
A43: ACTIFS CIRCULANTS | E43: 30/58 | F43: =F45+F47+F57+F59 -> 1.005466e+08 | H43: =H45+H47+H57+H59 -> 1.0124547e+08
A45: VI. | B45: Stocks | E45: 301 | F45: 0 | H45: 0
A47: VII. | B47: Créances à un an au plus | E47: 40/42 | F47: =F48+F49 -> 63221115 | H47: =H48+H49 -> 72228431
B48: A. | C48: Débiteurs ................................................................................................................................................ | E48: 40 | F48: 13633043 | H48: 11558057
B49: B. | C49: Autres créances...................................................................................................................................... | E49: 41/42 | F49: =SUM(F50:F55) -> 49588072 | H49: =SUM(H50:H55) -> 60670375
C50: 1. T.V.A. et taxes additionnelles .......................................................................................................... | E50: 411/2 | F50: 6473893.1 | H50: 5493721.3
C51: 2. Subsides, dons et legs et emprunts ............................................................................................. | E51: 413 | F51: 39479612 | H51: 51669018
C52: 3. Intérêts, dividendes et ristournes .................................................................................................. | E52: 415 | F52: 1448347.7 | H52: 1390995.8
...

Sheet Passif
A1: =Coordonnées!A1 -> Synthèse des Comptes | C1: =Coordonnées!D1 -> Administration communale de | D1: =Coordonnées!J1 -> VILLE DE NAMUR | G1: =Coordonnées!P1 -> Code INS | I1: =Coordonnées!R1 -> 92094
G2: =Coordonnées!P2 -> Exercice: | I2: =Coordonnées!R2 -> 2020
A3: =Coordonnées!A3 -> Modèle officiel généré par l'application eComptes © SPW Intérieur et Action Sociale | G3: =Coordonnées!P3 -> Version: | I3: =Coordonnées!R3 -> 1
C6: B I L A N | E6: Codes | F6: =I2 -> 2020 | H6: =F6-1 -> 2019
C8: P A S S I F
C10: FONDS PROPRES | E10: 10/16 | F10: =F12+F14+F16+F21+F25+F31 -> 2.0831787e+08 | H10: =H12+H14+H16+H21+H25+H31 -> 2.0378366e+08
A12: I'. | B12: Capital | E12: 10 | F12: 1411981.1 | H12: 1411981.1
A14: II'. | B14: Résultats capitalisés | E14: 12 | F14: 33469891 | H14: 30257415
A16: III'. | B16: Résultats reportés | E16: 13 | F16: =SUM(F17:F19) -> 1737261.7 | H16: =SUM(H17:H19) -> 5745688.3
B17: A'. | C17: Des exercices antérieurs............................................................................................... | E17: 1301 | F17: -8893288.9 | H17: 3212475.9
B18: B'. | C18: De l'exercice précédent............................................................................................... | E18: 1302 | F18: 11426501 | H18: -8893288.9
B19: C'. | C19: Du dernier exercice..................................................................................................... | E19: 1303 | F19: -795950.74 | H19: 11426501
A21: IV'. | B21: Réserves | E21: 14 | F21: =SUM(F22:F23) -> 58475637 | H21: =SUM(H22:H23) -> 52472061
B22: A'. | C22: Fonds de réserve ordinaire....................................................................................... | E22: 14104 | F22: 6366468.6 | H22: 6366468.6
B23: B'. | C23: Fonds de réserve extraordinaire................................................................................. | E23: 14105 | F23: 52109168 | H23: 46105593
A25: V'. | B25: Subsides d'investissement, dons et legs reçus | E25: 15 | F25: =SUM(F26:F29) -> 99887711 | H25: =SUM(H26:H29) -> 1.0056112e+08
B26: A'. | C26: Des entreprises privées ............................................................................................. | E26: 151 | F26: 6860744.3 | H26: 7245093.9
B27: B'. | C27: Des ménages, des A.S.B.L. et autres organismes ....................................................... | E27: 152 | F27: 1049653.2 | H27: 1050340.4
B28: C'. | C28: De l'Autorité supérieure .............................................................................................. | E28: 154 | F28: 89898421 | H28: 90119850
B29: D'. | C29: Des autres pouvoirs publics ..................................................................................... | E29: 156 | F29: 2078892.9 | H29: 2145834.1
A31: VI'. | B31: Provisions pour risques et charges | E31: 16 | F31: 13335390 | H31: 13335390
A33: DETTES | E33: 17/49 | F33: =F35+F44+F53 -> 3.1284075e+08 | H33: =H35+H44+H53 -> 3.0931559e+08
A35: VII'. | B35: Dettes à plus d'un an | E35: 17 | F35: =SUM(F36:F42) -> 2.7800441e+08 | H35: =SUM(H36:H42) -> 2.7658359e+08
B36: A'. | C36: Emprunts à charge de la commune ...................................................... | E36: 171/5 | F36: 2.5702624e+08 | H36: 2.5653601e+08
B37: B'. | C37: Emprunts à charge de l'Autorité supérieure............................................ | E37: 1714 | F37: 17030054 | H37: 15809786
B38: C'. | C38: Emprunts à charge de tiers.................................................................. | E38: 172 | F38: 3948111.1 | H38: 4237796.5
B39: D'. | C39: Dettes de location-financement............................................................ | E39: 174 | F39: 0 | H39: 0
B40: E'. | C40: Emprunts publics ............................................................................... | E40: 176 | F40: 0 | H40: 0
B41: F'. | C41: Dettes diverses à plus d'un an............................................................. | E41: 177 | F41: 0 | H41: 0
B42: G'. | C42: Garanties reçues à plus d'un an............................................................ | E42: 178 | F42: 0 | H42: 0
A44: VIII'. | B44: Dettes à un an au plus | E44: 43/6 | F44: =F45+SUM(F49:F51) -> 36269868 | H44: =H45+SUM(H49:H51) -> 34076501
B45: A'. | C45: Dettes financières................................................................................ | E45: 43 | F45: =SUM(F46:F48) -> 18289597 | H45: =SUM(H46:H48) -> 25098689
C46: 1'. Remboursements d'emprunts .......................................................... | E46: 435 | F46: 16895874 | H46: 16309820
C47: 2'. Charges financières des emprunts ................................................... | E47: 436 | F47: 1393722.9 | H47: 1288868.7
C48: 3'. Dettes sur comptes-courants........................................................... | E48: 433 | F48: 0 | H48: 7500000
B49: B'. | C49: Dettes commerciales .......................................................................... | E49: 44 | F49: 6327048.1 | H49: 4948288.4
B50: C'. | C50: Dettes fiscales, salariales et sociales ................................................................................................ | E50: 45 | F50: 3094698.5 | H50: 2843582.6
B51: D'. | C51: Dettes diverses .................................................................................. | E51: 464/7 | F51: 8558524.1 | H51: 1185940.8
A53: IX'. | B53: Opérations pour compte de tiers | E53: 48/P | F53: -1433527.1 | H53: -1344501
A55: X'. | B55: Comptes de régularisation et d'attente | E55: 49/P | F55: 8500973.3 | H55: 9193990.8
...

Sheet Charges
A1: =Coordonnées!A1 -> Synthèse des Comptes | C1: =Coordonnées!D1 -> Administration communale de | D1: =Coordonnées!J1 -> VILLE DE NAMUR | G1: =Coordonnées!P1 -> Code INS | I1: =Coordonnées!R1 -> 92094
G2: =Coordonnées!P2 -> Exercice: | I2: =Coordonnées!R2 -> 2020
A3: =Coordonnées!A3 -> Modèle officiel généré par l'application eComptes © SPW Intérieur et Action Sociale | G3: =Coordonnées!P3 -> Version: | I3: =Coordonnées!R3 -> 1
E5: Codes | F5: =I2 -> 2020 | H5: =F5-1 -> 2019
C6: COMPTE DE RESULTATS
A8: I. | B8: Charges courantes
B9: A. | C9: Achats de matières .............................................................................................. | E9: 60 | F9: 7031399.5 | H9: 8019201.4
B10: B. | C10: Services et biens d'exploitation ......................................................................... | E10: 61 | F10: 19400573 | H10: 18618486
B11: C. | C11: Frais de personnel .............................................................................................. | E11: 62 | F11: 79910583 | H11: 77591180
B12: D. | C12: Subsides d'exploitation accordés ................................................................... | E12: 63 | F12: 60630231 | H12: 55996013
B13: E. | C13: Remboursements des emprunts ................................................................... | E13: 64 | F13: 13490144 | H13: 12695504
B14: F. | C14: Charges financières | E14: 65 | F14: =SUM(F15:F17) -> 6239010.4 | H14: =SUM(H15:H17) -> 6011067.5
C15: a. Charges financières des emprunts ........................................................... | E15: 651/6 | F15: 6164021.4 | H15: 5849959.6
C16: b. Charges financières diverses .................................................................... | E16: 657 | F16: 20653.87 | H16: 105600.2
C17: c. Frais de la gestion financière ..................................................................... | E17: 658 | F17: 54335.14 | H17: 55507.68
A19: II. | B19: Sous-total (charges courantes) | E19: 60/65 | F19: =SUM(F9:F14) -> 1.8670194e+08 | H19: =SUM(H9:H14) -> 1.7893145e+08
A21: III. | B21: Boni courant (II' - II) | F21: =IF(Charges!F19<Produits!F19,Produits!F19-Charges!F19,0) -> 1768161.2 | H21: =IF(Charges!H19<Produits!H19,Produits!H19-Charges!H19,0) -> 8722975.1
A23: IV. | B23: Charges résultant de la variation normale des valeurs de bilan, redressements et provisions
B25: A. | C25: Dotations aux amortissements ......................................................................... | E25: 660 | F25: 18496767 | H25: 18461084
B26: B. | C26: Réductions annuelles de valeurs ..................................................................... | E26: 661 | F26: 0 | H26: 0
B27: C. | C27: Réductions et variations des stocks ............................................................... | E27: 662/4 | F27: 0 | H27: 0
B28: D. | C28: Redressement des récupérations des
C29: remboursements d'emprunts ........................................................................... | E29: 665 | F29: 1300844.3 | H29: 1275025.1
B30: E. | C30: Provisions pour risques et charges ............................................................... | E30: 666 | F30: 0 | H30: 237519.54
B31: F. | C31: Dotations aux amortissements des subsides
C32: d'investissement accordés ............................................................................... | E32: 667 | F32: 1769008.7 | H32: 1761673
A34: V. | B34: Sous-total (charges non décaissées) | E34: 66 | F34: =SUM(F25:F32) -> 21566620 | H34: =SUM(H25:H32) -> 21735301
A36: VI. | B36: Total des charges d'exploitation (II + V) | E36: 60/66 | F36: =F19+F34 -> 2.0826856e+08 | H36: =H19+H34 -> 2.0066675e+08
A38: VII. | B38: Boni d'exploitation (VI' - VI) | F38: =IF(Charges!F36<Produits!F33,Produits!F33-Charges!F36,0) -> 4513870.8 | H38: =IF(Charges!H36<Produits!H33,Produits!H33-Charges!H36,0) -> 10703905
A40: VIII. | B40: Charges exceptionnelles
B41: A. | C41: Du service ordinaire ............................................................................................ | E41: 671 | F41: 725590.33 | H41: 820956.44
B42: B. | C42: Du service extraordinaire .................................................................................. | E42: 672 | F42: 38627.71 | H42: 129047
B43: C. | C43: Charges exceptionnelles non budgétées ..................................................... | E43: 673 | F43: 59177.15 | H43: 465.42
C44: Sous-total (charges exceptionnelles) | E44: 67 | F44: =SUM(F41:F43) -> 823395.19 | H44: =SUM(H41:H43) -> 950468.86
A46: IX. | B46: Dotations aux réserves
B47: A. | C47: Du service ordinaire ......................................................................................... | E47: 685 | F47: 155853.88 | H47: 1136100.8
B48: B. | C48: Du service extraordinaire ................................................................................ | E48: 686 | F48: 21059962 | H48: 21885602
C49: Sous-total des dotations aux réserves | E49: 68 | F49: =SUM(F47:F48) -> 21215816 | H49: =SUM(H47:H48) -> 23021702
A51: X. | B51: Total des charges exceptionnelles et des dotations aux réserves (VIII + IX)
E52: 67/68 | F52: =F44+F49 -> 22039211 | H52: =H44+H49 -> 23972171
...

Sheet Produits
A1: =Coordonnées!A1 -> Synthèse des Comptes | C1: =Coordonnées!D1 -> Administration communale de | D1: =Coordonnées!J1 -> VILLE DE NAMUR | G1: =Coordonnées!P1 -> Code INS | I1: =Coordonnées!R1 -> 92094
G2: =Coordonnées!P2 -> Exercice: | I2: =Coordonnées!R2 -> 2020
A3: =Coordonnées!A3 -> Modèle officiel généré par l'application eComptes © SPW Intérieur et Action Sociale | G3: =Coordonnées!P3 -> Version: | I3: =Coordonnées!R3 -> 1
E5: Codes | F5: =I2 -> 2020 | H5: =F5-1 -> 2019
A6: COMPTE DE RESULTATS
A8: I'. | B8: Produits courants
B9: A'. | C9: Produits de la fiscalité .......................................................................... | E9: 70 | F9: 1.0005661e+08 | H9: 1.0215116e+08
B10: B'. | C10: Produits d'exploitation ......................................................................... | E10: 71 | F10: 8581146.6 | H10: 8093540
B11: C'. | C11: Subsides d'exploitation reçus et récupérations de
C12: charges de personnel ........................................................................... | E12: 72/73 | F12: 68133376 | H12: 66838058
B13: D'. | C13: Récupération des remboursements d'emprunts ....................................... | E13: 74 | F13: 1300844.3 | H13: 1275025.1
B14: E'. | C14: Produits financiers | E14: 75 | F14: =SUM(F16:F17) -> 10398129 | H14: =SUM(H16:H17) -> 9296645.7
C15: a'. Récupération des charges financières des
C16: emprunts et des prêts accordés ...................................................................... | E16: 751/5 | F16: 5120435.1 | H16: 4891654.9
C17: b' Produits financiers divers ................................................................ | E17: 754/7 | F17: 5277693.5 | H17: 4404990.8
A19: II'. | B19: Sous-total (produits courants) | E19: 70/75 | F19: =SUM(F9:F14) -> 1.884701e+08 | H19: =SUM(H9:H14) -> 1.8765443e+08
A21: III'. | B21: Mali courant (II - II') | F21: =IF(Charges!F19>Produits!F19,Charges!F19-Produits!F19,0) -> 0 | H21: =IF(Charges!H19>Produits!H19,Charges!H19-Produits!H19,0) -> 0
A23: IV'. | B23: Produits résultant de la variation normale des valeurs de bilan, redressements, travaux internes
B25: A'. | C25: Plus-values annuelles .......................................................................... | E25: 761 | F25: 4736270.8 | H25: 4739257.6
B26: B'. | C26: Variations des stocks .......................................................................... | E26: 764 | F26: 0 | H26: 0
B27: C'. | C27: Redressement des cptes des remb. des emprunts ........... | E27: 765 | F27: 13490144 | H27: 12695504
B28: D'. | C28: Réductions des subsides d'investissement, des dons et legs obtenus .................................................................. | E28: 767 | F28: 6085914.6 | H28: 6281470.2
B29: E'. | C29: Travaux internes passés à l'immobilisé ................................................... | E29: 769 | F29: 0 | H29: 0
A31: V'. | B31: Sous-total (produits non encaissés) | E31: 76 | F31: =SUM(F25:F29) -> 24312330 | H31: =SUM(H25:H29) -> 23716232
A33: VI'. | B33: Total des produits d'exploitation (II' + V') | E33: 70/76 | F33: =F19+F31 -> 2.1278243e+08 | H33: =H19+H31 -> 2.1137066e+08
A35: VII'. | B35: Mali d'exploitation (VI - VI') | F35: =IF(Charges!F36>Produits!F33,Charges!F36-Produits!F33,0) -> 0 | H35: =IF(Charges!H36>Produits!H33,Charges!H36-Produits!H33,0) -> 0
A37: VIII'. | B37: Produits exceptionnels
B38: A'. | C38: Du service ordinaire ............................................................................. | E38: 771 | F38: 566060.99 | H38: 651689.36
B39: B'. | C39: Du service extraordinaire ....................................................................... | E39: 772 | F39: 669801.51 | H39: 297298.99
B40: C'. | C40: Produits exceptionnels non budgétés ................................................ | E40: 773 | F40: 281286.64 | H40: 5178.37
C42: Sous-total (produits exceptionnels) | E42: 77 | F42: =SUM(F38:F40) -> 1517149.1 | H42: =SUM(H38:H40) -> 954166.72
A44: IX'. | B44: Prélèvements sur les réserves
B45: A'. | C45: Du service ordinaire ............................................................................. | E45: 785 | F45: 0 | H45: 0
B46: B'. | C46: Du service extraordinaire ....................................................................... | E46: 786 | F46: 15212240 | H46: 23740600
C48: Sous-total des prélèvements sur réserves | E48: 78 | F48: =SUM(F45:F46) -> 15212240 | H48: =SUM(H45:H46) -> 23740600
A50: X'. | B50: Total des produits exceptionnels et des
B51: prélèvements sur réserves (VIII' + IX') | E51: 77/78 | F51: =F42+F48 -> 16729389 | H51: =H42+H48 -> 24694767
A53: XI'. | B53: Mali exceptionnel (X - X') | F53: =IF(Charges!F52>Produits!F51,Charges!F52-Produits!F51,0) -> 5309821.6 | H53: =IF(Charges!H52>Produits!H51,Charges!H52-Produits!H51,0) -> 0
A55: XII'. | B55: Total des produits (VI' + X') | F55: =F33+F51 -> 2.2951182e+08 | H55: =H33+H51 -> 2.3606542e+08
A57: XIII'. | B57: Mali de l'exercice (XII - XII') | F57: =IF(Charges!F56>Produits!F55,Charges!F56-Produits!F55,0) -> 795950.74 | H57: =IF(Charges!H56>Produits!H55,Charges!H56-Produits!H55,0) -> 0
...

Sheet Commentaires
A1: =Coordonnées!A1 -> Synthèse des Comptes | D1: =Coordonnées!D1 -> Administration communale de | J1: =Coordonnées!J1 -> VILLE DE NAMUR | P1: =Coordonnées!P1 -> Code INS | R1: =Coordonnées!R1 -> 92094
P2: =Coordonnées!P2 -> Exercice: | R2: =Coordonnées!R2 -> 2020
A3: =Coordonnées!A3 -> Modèle officiel généré par l'application eComptes © SPW Intérieur et Action Sociale | P3: =Coordonnées!P3 -> Version: | R3: =Coordonnées!R3 -> 1
A6: Commentaires

Sheet Glossaire
A1: =Coordonnées!A1 -> Synthèse des Comptes | D1: =Coordonnées!D1 -> Administration communale de | J1: =Coordonnées!J1 -> VILLE DE NAMUR | P1: =Coordonnées!P1 -> Code INS | R1: =Coordonnées!R1 -> 92094
P2: =Coordonnées!P2 -> Exercice: | R2: =Coordonnées!R2 -> 2020
A3: =Coordonnées!A3 -> Modèle officiel généré par l'application eComptes © SPW Intérieur et Action Sociale | P3: =Coordonnées!P3 -> Version: | R3: =Coordonnées!R3 -> 1
A6: Glossaire
A8: Termes | F8: Définitions:
A9: Exercice propre | F9: L'exercice du document allant du 1er janvier au 31 décembre
A10: Exercices antérieurs | F10: Les opérations antérieures à l'exercice propre
A11: Résultat global | F11: Le boni ou le mali de l'exercice propre cumulé avec celui des exercices antérieurs
A12: Dépenses de transfert | F12: Dépenses effectuées à destination de tiers à la commune (d'autres institutions, organismes, ménages ..)
A13: Recettes de transfert | F13: Recettes en provenance de tiers ( subsides, taxes, … )
A14: Recettes de prestation | F14: Recettes découlant de services payants rendus par la commune, de locations, de droits d'entrée …
A15: Dépenses de prélèvements | F15: Sommes prélevées sur les excédents budgétaires par la commune pour alimenter des fonds de réserves ordinaires ou extraordinaires (pour financer des dépenses d'investissement sur fonds propres ) ou des provisions ( pour faire face à des charges futures importantes )
A16: Recettes de prélèvements | F16: Utilisation des fonds de réserve et des provisions (constitués au moyen des dépenses de prélèvement)
A17: Ordinaire | F17: Les recettes et dépenses nécessaires au fonctionnement de la commune (taxes, subventions , salaires,électricité,fournitures,…)
A18: Extraordinaire | F18: Les dépenses et leurs moyens de financement afférentes aux investissements ( travaux importants, rénovations, achat de matériel et de véhicules etc … )
